BEGIN:VCALENDAR
VERSION:2.0
PRODID:-//Contratero//ES
CALSCALE:GREGORIAN
METHOD:PUBLISH
BEGIN:VEVENT
UID:SSCC PA 170/23@contratero.es
DTSTAMP:20260421T154002Z
DTSTART:20231010T235959
DTEND:20231011T005959
SUMMARY:Cierre: Creación de un espacio de datos del Servei de Salu
DESCRIPTION:Creación de un espacio de datos del Servei de Salud de las Illes Balearas para su posterior integración en el Espacio de Datos Nacional y Europeo\, en el marco del Plan de Recuperación\, Transformación ...\\n\\nOrganismo: Servicio de Salud de las Illes Balears\\n\\nVer en Contratero: https://contratero.es/contracts/SSCC PA 170/23
URL:https://contratero.es/contracts/SSCC PA 170/23
STATUS:CONFIRMED
BEGIN:VALARM
TRIGGER:-P1D
ACTION:DISPLAY
DESCRIPTION:Recordatorio: Creación de un espacio de dato
END:VALARM
END:VEVENT
END:VCALENDAR